BEGIN:VCALENDAR
VERSION:2.0
PRODID:-//time.now/holidays//NONSGML v1.0//EN
BEGIN:VEVENT
UID:e2edc987-92ba-46e3-807f-18bd8fc7fe54
DTSTAMP:20260420T201220Z
DTSTART;VALUE=DATE:20260411
SUMMARY:Holy Saturday (Serbie)
END:VEVENT
END:VCALENDAR