BEGIN:VCALENDAR
VERSION:2.0
PRODID:-//time.now/holidays//NONSGML v1.0//EN
BEGIN:VEVENT
UID:7a2fd1ce-6748-4a21-8baf-89331f4bffe3
DTSTAMP:20260420T203843Z
DTSTART;VALUE=DATE:20270502
SUMMARY:Easter Sunday; Labor Day (Serbie)
END:VEVENT
END:VCALENDAR