BEGIN:VCALENDAR
VERSION:2.0
PRODID:-//time.now/holidays//NONSGML v1.0//EN
BEGIN:VEVENT
UID:c5dcd093-a104-423b-b87c-d5d4aaf332af
DTSTAMP:20260420T162146Z
DTSTART;VALUE=DATE:20240915
SUMMARY:Prophet's Birthday (Sénégal)
END:VEVENT
END:VCALENDAR