BEGIN:VCALENDAR
VERSION:2.0
PRODID:-//time.now/holidays//NONSGML v1.0//EN
BEGIN:VEVENT
UID:cb4f98b2-8be7-41ff-8145-c1730cbb30ee
DTSTAMP:20260420T182707Z
DTSTART;VALUE=DATE:20260825
SUMMARY:Prophet's Birthday (estimated) (Sénégal)
END:VEVENT
END:VCALENDAR