BEGIN:VCALENDAR
VERSION:2.0
PRODID:-//time.now/holidays//NONSGML v1.0//EN
BEGIN:VEVENT
UID:1bec7a83-5a65-4634-a786-b2fb24720f9c
DTSTAMP:20260422T141352Z
DTSTART;VALUE=DATE:20260801
SUMMARY:Grand Magal of Touba (estimated) (Sénégal)
END:VEVENT
END:VCALENDAR