BEGIN:VCALENDAR
VERSION:2.0
PRODID:-//time.now/holidays//NONSGML v1.0//EN
BEGIN:VEVENT
UID:7cab768f-6783-4428-975d-4f63aaf82864
DTSTAMP:20260420T170738Z
DTSTART;VALUE=DATE:20250330
SUMMARY:Eid al-Fitr (Sénégal)
END:VEVENT
END:VCALENDAR