BEGIN:VCALENDAR
VERSION:2.0
PRODID:-//time.now/holidays//NONSGML v1.0//EN
BEGIN:VEVENT
UID:440ddd95-33e7-4a12-a540-85c8ddf711d4
DTSTAMP:20260420T193820Z
DTSTART;VALUE=DATE:20250331
SUMMARY:Eid al-Fitr (observed) (Sénégal)
END:VEVENT
END:VCALENDAR