BEGIN:VCALENDAR
VERSION:2.0
PRODID:-//time.now/holidays//NONSGML v1.0//EN
BEGIN:VEVENT
UID:d1568c5d-227f-4092-8be0-ada118533064
DTSTAMP:20260420T213811Z
DTSTART;VALUE=DATE:20220501
SUMMARY:Eid al-Fitr; Labor Day (Sénégal)
END:VEVENT
END:VCALENDAR