BEGIN:VCALENDAR
VERSION:2.0
PRODID:-//time.now/holidays//NONSGML v1.0//EN
BEGIN:VEVENT
UID:c3557fa9-e102-4874-8d69-ba94a28c50fb
DTSTAMP:20260420T194726Z
DTSTART;VALUE=DATE:20260320
SUMMARY:Eid al-Fitr (estimated) (Sénégal)
END:VEVENT
END:VCALENDAR