BEGIN:VCALENDAR
VERSION:2.0
PRODID:-//time.now/holidays//NONSGML v1.0//EN
BEGIN:VEVENT
UID:caf5abc8-20e6-4ec5-bf48-688a3473bef6
DTSTAMP:20260420T134825Z
DTSTART;VALUE=DATE:20261225
SUMMARY:Christmas Day (Sénégal)
END:VEVENT
END:VCALENDAR