BEGIN:VCALENDAR
VERSION:2.0
PRODID:-//time.now/holidays//NONSGML v1.0//EN
BEGIN:VEVENT
UID:55ca47af-624b-4a7c-a5ba-f9a74ca98dd7
DTSTAMP:20260420T152353Z
DTSTART;VALUE=DATE:20261101
SUMMARY:All Saints' Day (Sénégal)
END:VEVENT
END:VCALENDAR