BEGIN:VCALENDAR
VERSION:2.0
PRODID:-//time.now/holidays//NONSGML v1.0//EN
BEGIN:VEVENT
UID:6327d174-b73a-4617-a923-940a1d04e274
DTSTAMP:20260422T091055Z
DTSTART;VALUE=DATE:20280924
SUMMARY:National Day Holiday (observed) (Arabie Saoudite)
END:VEVENT
END:VCALENDAR