BEGIN:VCALENDAR
VERSION:2.0
PRODID:-//time.now/holidays//NONSGML v1.0//EN
BEGIN:VEVENT
UID:4b58e64d-22a1-4204-a5bb-ef84a583ac5d
DTSTAMP:20260422T083409Z
DTSTART;VALUE=DATE:20300221
SUMMARY:Founding Day Holiday (observed) (Arabie Saoudite)
END:VEVENT
END:VCALENDAR