BEGIN:VCALENDAR
VERSION:2.0
PRODID:-//time.now/holidays//NONSGML v1.0//EN
BEGIN:VEVENT
UID:8fbc1ff7-7b2a-4c55-90e2-6c4d01825a2f
DTSTAMP:20260422T091517Z
DTSTART;VALUE=DATE:20260531
SUMMARY:Eid al-Adha Holiday (observed, estimated) (Arabie Saoudite)
END:VEVENT
END:VCALENDAR