BEGIN:VCALENDAR
VERSION:2.0
PRODID:-//time.now/holidays//NONSGML v1.0//EN
BEGIN:VEVENT
UID:9ab53233-6d64-4819-a750-0b3fdeeb6f7d
DTSTAMP:20260422T090215Z
DTSTART;VALUE=DATE:20260527
SUMMARY:Eid al-Adha Holiday (estimated) (Arabie Saoudite)
END:VEVENT
END:VCALENDAR