BEGIN:VCALENDAR
VERSION:2.0
PRODID:-//time.now/holidays//NONSGML v1.0//EN
BEGIN:VEVENT
UID:208326f1-426d-490a-ba30-2dd26c7c9a0f
DTSTAMP:20260420T204721Z
DTSTART;VALUE=DATE:20221123
SUMMARY:A National Day (Arabie Saoudite)
END:VEVENT
END:VCALENDAR