BEGIN:VCALENDAR
VERSION:2.0
PRODID:-//time.now/holidays//NONSGML v1.0//EN
BEGIN:VEVENT
UID:46769177-de6d-4b1d-832f-aa93bcdabf61
DTSTAMP:20260422T105120Z
DTSTART;VALUE=DATE:20260815
SUMMARY:São Lourenço Day (Sao Tomé-et-Principe)
END:VEVENT
END:VCALENDAR