BEGIN:VCALENDAR
VERSION:2.0
PRODID:-//time.now/holidays//NONSGML v1.0//EN
BEGIN:VEVENT
UID:fe1c583f-1115-49a9-bb45-1801216f2cbd
DTSTAMP:20260422T110832Z
DTSTART;VALUE=DATE:20260814
SUMMARY:São Lourenço Day (observed) (Sao Tomé-et-Principe)
END:VEVENT
END:VCALENDAR