BEGIN:VCALENDAR
VERSION:2.0
PRODID:-//time.now/holidays//NONSGML v1.0//EN
BEGIN:VEVENT
UID:e99b1bba-f7ad-44c7-95d7-c5bcbb2682fa
DTSTAMP:20260422T092230Z
DTSTART;VALUE=DATE:20260101
SUMMARY:New Year's Day (Sao Tomé-et-Principe)
END:VEVENT
END:VCALENDAR