BEGIN:VCALENDAR
VERSION:2.0
PRODID:-//time.now/holidays//NONSGML v1.0//EN
BEGIN:VEVENT
UID:da1870e8-bc6f-449b-98eb-fdc95728e3e2
DTSTAMP:20260422T091340Z
DTSTART;VALUE=DATE:20260713
SUMMARY:Independence Day (observed) (Sao Tomé-et-Principe)
END:VEVENT
END:VCALENDAR