BEGIN:VCALENDAR
VERSION:2.0
PRODID:-//time.now/holidays//NONSGML v1.0//EN
BEGIN:VEVENT
UID:880a7609-19c0-46c2-ab26-6f0c58e62500
DTSTAMP:20260422T174404Z
DTSTART;VALUE=DATE:20260930
SUMMARY:Agricultural Reform Day (Sao Tomé-et-Principe)
END:VEVENT
END:VCALENDAR