BEGIN:VCALENDAR
VERSION:2.0
PRODID:-//time.now/holidays//NONSGML v1.0//EN
BEGIN:VEVENT
UID:065dbd22-df26-4c4e-a88c-c9ad901b966b
DTSTAMP:20260422T103917Z
DTSTART;VALUE=DATE:20280929
SUMMARY:Agricultural Reform Day (observed) (Sao Tomé-et-Principe)
END:VEVENT
END:VCALENDAR