BEGIN:VCALENDAR
VERSION:2.0
PRODID:-//time.now/holidays//NONSGML v1.0//EN
BEGIN:VEVENT
UID:6f7dae5e-dd26-4be4-aa2f-db880d77e5c0
DTSTAMP:20260422T222054Z
DTSTART;VALUE=DATE:20260501
SUMMARY:Labour Day (Saint-Marin)
END:VEVENT
END:VCALENDAR