BEGIN:VCALENDAR
VERSION:2.0
PRODID:-//time.now/holidays//NONSGML v1.0//EN
BEGIN:VEVENT
UID:9ac08b21-b92f-4000-b258-844c9d81b69d
DTSTAMP:20260420T171245Z
DTSTART;VALUE=DATE:20260903
SUMMARY:Foundation Day (Saint-Marin)
END:VEVENT
END:VCALENDAR