BEGIN:VCALENDAR
VERSION:2.0
PRODID:-//time.now/holidays//NONSGML v1.0//EN
BEGIN:VEVENT
UID:e8af6934-db99-49e4-85ee-416d8974c646
DTSTAMP:20260422T193214Z
DTSTART;VALUE=DATE:20261101
SUMMARY:All Saints' Day (Saint-Marin)
END:VEVENT
END:VCALENDAR