BEGIN:VCALENDAR
VERSION:2.0
PRODID:-//time.now/holidays//NONSGML v1.0//EN
BEGIN:VEVENT
UID:26741334-ee65-47e2-88b3-8175c91591d9
DTSTAMP:20260420T062059Z
DTSTART;VALUE=DATE:20260810
SUMMARY:Father's Day (Samoa)
END:VEVENT
END:VCALENDAR