BEGIN:VCALENDAR
VERSION:2.0
PRODID:-//time.now/holidays//NONSGML v1.0//EN
BEGIN:VEVENT
UID:3121aa84-0555-4591-bb2d-d968af34dec6
DTSTAMP:20260420T063041Z
DTSTART;VALUE=DATE:20260404
SUMMARY:Day After Good Friday (Samoa)
END:VEVENT
END:VCALENDAR