BEGIN:VCALENDAR
VERSION:2.0
PRODID:-//time.now/holidays//NONSGML v1.0//EN
BEGIN:VEVENT
UID:2eee9f7b-9572-4894-914f-b3e7ee076235
DTSTAMP:20260420T194914Z
DTSTART;VALUE=DATE:20260101
SUMMARY:New Year's Day (Sainte-Lucie)
END:VEVENT
END:VCALENDAR