BEGIN:VCALENDAR
VERSION:2.0
PRODID:-//time.now/holidays//NONSGML v1.0//EN
BEGIN:VEVENT
UID:dd092584-631c-4260-8f6a-9180aaf4f744
DTSTAMP:20260420T153700Z
DTSTART;VALUE=DATE:20330502
SUMMARY:Labor Day (observed) (Sainte-Lucie)
END:VEVENT
END:VCALENDAR