BEGIN:VCALENDAR
VERSION:2.0
PRODID:-//time.now/holidays//NONSGML v1.0//EN
BEGIN:VEVENT
UID:e83ada9e-2158-481d-90f2-fb68c311ff28
DTSTAMP:20260420T162150Z
DTSTART;VALUE=DATE:20270802
SUMMARY:Emancipation Day (observed) (Sainte-Lucie)
END:VEVENT
END:VCALENDAR