BEGIN:VCALENDAR
VERSION:2.0
PRODID:-//time.now/holidays//NONSGML v1.0//EN
BEGIN:VEVENT
UID:89049ef2-1d34-468a-9d26-7320e7c61a15
DTSTAMP:20260420T183934Z
DTSTART;VALUE=DATE:20271227
SUMMARY:Boxing Day (observed) (Sainte-Lucie)
END:VEVENT
END:VCALENDAR