BEGIN:VCALENDAR
VERSION:2.0
PRODID:-//time.now/holidays//NONSGML v1.0//EN
BEGIN:VEVENT
UID:6c32e81f-27b4-463e-a3de-49900f41b833
DTSTAMP:20260422T091635Z
DTSTART;VALUE=DATE:20260916
SUMMARY:National Heroes Day (Saint-Christophe-et-Niévès)
END:VEVENT
END:VCALENDAR