BEGIN:VCALENDAR
VERSION:2.0
PRODID:-//time.now/holidays//NONSGML v1.0//EN
BEGIN:VEVENT
UID:b6f1a85a-aa3e-473e-a51e-1f3e8443ede6
DTSTAMP:20260420T200343Z
DTSTART;VALUE=DATE:20260403
SUMMARY:Good Friday (Saint-Christophe-et-Niévès)
END:VEVENT
END:VCALENDAR