BEGIN:VCALENDAR
VERSION:2.0
PRODID:-//time.now/holidays//NONSGML v1.0//EN
BEGIN:VEVENT
UID:2034ffe5-3c0e-48f5-a028-89e22f4e9e36
DTSTAMP:20260422T105305Z
DTSTART;VALUE=DATE:20220808
SUMMARY:Federal Election Victory Day (Saint-Christophe-et-Niévès)
END:VEVENT
END:VCALENDAR