BEGIN:VCALENDAR
VERSION:2.0
PRODID:-//time.now/holidays//NONSGML v1.0//EN
BEGIN:VEVENT
UID:c221afdb-dc28-4dd8-b67b-9cc768fd8e81
DTSTAMP:20260422T223828Z
DTSTART;VALUE=DATE:20261225
SUMMARY:Christmas Day (Saint-Christophe-et-Niévès)
END:VEVENT
END:VCALENDAR