BEGIN:VCALENDAR
VERSION:2.0
PRODID:-//time.now/holidays//NONSGML v1.0//EN
BEGIN:VEVENT
UID:d19ae49f-a3d0-41ab-be7e-3cc99a781e8a
DTSTAMP:20260420T214542Z
DTSTART;VALUE=DATE:20260101
SUMMARY:Carnival Day (Saint-Christophe-et-Niévès)
END:VEVENT
END:VCALENDAR