BEGIN:VCALENDAR
VERSION:2.0
PRODID:-//time.now/holidays//NONSGML v1.0//EN
BEGIN:VEVENT
UID:ff713a0e-054f-4ffb-b985-0fb531fddc19
DTSTAMP:20260422T084408Z
DTSTART;VALUE=DATE:20260102
SUMMARY:Carnival Day - Last Lap (Saint-Christophe-et-Niévès)
END:VEVENT
END:VCALENDAR