BEGIN:VCALENDAR
VERSION:2.0
PRODID:-//time.now/holidays//NONSGML v1.0//EN
BEGIN:VEVENT
UID:11a05e9e-d883-4a7f-8bb2-671c07cd2e5b
DTSTAMP:20260422T091238Z
DTSTART;VALUE=DATE:20280103
SUMMARY:Carnival Day - Last Lap (observed) (Saint-Christophe-et-Niévès)
END:VEVENT
END:VCALENDAR