BEGIN:VCALENDAR
VERSION:2.0
PRODID:-//time.now/holidays//NONSGML v1.0//EN
BEGIN:VEVENT
UID:14a60894-0584-42f5-9ed4-15931c514cb9
DTSTAMP:20260420T153841Z
DTSTART;VALUE=DATE:20260509
SUMMARY:Victory Day (Russie)
END:VEVENT
END:VCALENDAR