BEGIN:VCALENDAR
VERSION:2.0
PRODID:-//time.now/holidays//NONSGML v1.0//EN
BEGIN:VEVENT
UID:114c35c5-3a30-49a2-8fea-082e208dff63
DTSTAMP:20260422T101146Z
DTSTART;VALUE=DATE:20250508
SUMMARY:Day off (substituted from 02/23/2025) (Russie)
END:VEVENT
END:VCALENDAR