BEGIN:VCALENDAR
VERSION:2.0
PRODID:-//time.now/holidays//NONSGML v1.0//EN
BEGIN:VEVENT
UID:c65f84b0-7647-477e-b28d-effbcc343196
DTSTAMP:20260420T082612Z
DTSTART;VALUE=DATE:20261201
SUMMARY:National Day (Roumanie)
END:VEVENT
END:VCALENDAR