BEGIN:VCALENDAR
VERSION:2.0
PRODID:-//time.now/holidays//NONSGML v1.0//EN
BEGIN:VEVENT
UID:cca56517-84db-4416-b321-96f52bda302c
DTSTAMP:20260420T060850Z
DTSTART;VALUE=DATE:20260501
SUMMARY:Labor Day (Roumanie)
END:VEVENT
END:VCALENDAR