BEGIN:VCALENDAR
VERSION:2.0
PRODID:-//time.now/holidays//NONSGML v1.0//EN
BEGIN:VEVENT
UID:c1c10d9f-80a1-434b-9b6c-cf01b15b5525
DTSTAMP:20260419T221026Z
DTSTART;VALUE=DATE:20260106
SUMMARY:Epiphany (Roumanie)
END:VEVENT
END:VCALENDAR