BEGIN:VCALENDAR
VERSION:2.0
PRODID:-//time.now/holidays//NONSGML v1.0//EN
BEGIN:VEVENT
UID:5b95e327-4ac5-423c-a015-49d57c2214ea
DTSTAMP:20260420T192024Z
DTSTART;VALUE=DATE:20261218
SUMMARY:Qatar National Day (Qatar)
END:VEVENT
END:VCALENDAR