BEGIN:VCALENDAR
VERSION:2.0
PRODID:-//time.now/holidays//NONSGML v1.0//EN
BEGIN:VEVENT
UID:d30e2b42-515e-4940-a5f1-dd5d35e2440a
DTSTAMP:20260420T121347Z
DTSTART;VALUE=DATE:20261111
SUMMARY:Veterans Day (Porto Rico)
END:VEVENT
END:VCALENDAR