BEGIN:VCALENDAR
VERSION:2.0
PRODID:-//time.now/holidays//NONSGML v1.0//EN
BEGIN:VEVENT
UID:a406f60a-0986-49b5-9ecd-961e2429ab13
DTSTAMP:20260422T085751Z
DTSTART;VALUE=DATE:20271231
SUMMARY:New Year's Day (observed) (Porto Rico)
END:VEVENT
END:VCALENDAR