BEGIN:VCALENDAR
VERSION:2.0
PRODID:-//time.now/holidays//NONSGML v1.0//EN
BEGIN:VEVENT
UID:c66aa484-b122-4374-971c-0f00a9388561
DTSTAMP:20260420T171613Z
DTSTART;VALUE=DATE:20260323
SUMMARY:Emancipation Day (observed) (Porto Rico)
END:VEVENT
END:VCALENDAR