BEGIN:VCALENDAR
VERSION:2.0
PRODID:-//time.now/holidays//NONSGML v1.0//EN
BEGIN:VEVENT
UID:86b9a9fb-9469-422e-b03f-4c8552f35ad0
DTSTAMP:20260420T183205Z
DTSTART;VALUE=DATE:20281120
SUMMARY:Discovery Day (observed) (Porto Rico)
END:VEVENT
END:VCALENDAR