BEGIN:VCALENDAR
VERSION:2.0
PRODID:-//time.now/holidays//NONSGML v1.0//EN
BEGIN:VEVENT
UID:48835045-84b7-48b1-bb04-7d5e8ba895e3
DTSTAMP:20260422T104105Z
DTSTART;VALUE=DATE:20261127
SUMMARY:Municipal Holiday of Guarda (Portugal)
END:VEVENT
END:VCALENDAR