BEGIN:VCALENDAR
VERSION:2.0
PRODID:-//time.now/holidays//NONSGML v1.0//EN
BEGIN:VEVENT
UID:94b59352-368f-4226-9984-52f0cb74b1d0
DTSTAMP:20260420T120850Z
DTSTART;VALUE=DATE:20260405
SUMMARY:Easter Sunday (Portugal)
END:VEVENT
END:VCALENDAR